BEGIN:VCALENDAR
VERSION:2.0
PRODID:-//jEvents 2.0 for Joomla//EN
CALSCALE:GREGORIAN
METHOD:PUBLISH
BEGIN:VTIMEZONE
TZID:Europe/Berlin
BEGIN:STANDARD
DTSTART:20251026T020000
RDATE:20260329T030000
TZOFFSETFROM:+0200
TZOFFSETTO:+0100
TZNAME:Europe/Berlin CET
END:STANDARD
BEGIN:STANDARD
DTSTART:20261025T020000
RDATE:20270328T030000
TZOFFSETFROM:+0200
TZOFFSETTO:+0100
TZNAME:Europe/Berlin CET
END:STANDARD
BEGIN:DAYLIGHT
DTSTART:20250502T000000
RDATE:20251026T020000
TZOFFSETFROM:+0100
TZOFFSETTO:+0200
TZNAME:Europe/Berlin CEST
END:DAYLIGHT
BEGIN:DAYLIGHT
DTSTART:20260329T030000
RDATE:20261025T020000
TZOFFSETFROM:+0100
TZOFFSETTO:+0200
TZNAME:Europe/Berlin CEST
END:DAYLIGHT
END:VTIMEZONE
BEGIN:VEVENT
UID:2641ff590f582aa0404265bff397730f
CATEGORIES:Festbesuche
CREATED:20260202T003450
SUMMARY:Festbesuch 150 Jahre FFW Ebermannstadt
URL;VALUE=URI:https://www.ffw-leutenbach.de/index.php/termine/termine-download/icalrepeat
 .detail/2026/05/03/521/-/festbesuch-150-jahre-ffw-ebermannstadt?tmpl=compon
 ent
DESCRIPTION:Am Sonntag den 3. Mai 2026 gehen wir mit beim Festzug der Feuerwehr Eberman
 nstadt.\n\n11:30 Uhr Abfahrt an der Dorfmitte, Linde\n \n\n\n \n\n Das Prog
 ramm für das ganze Wochenende findet ihr unter:\n \n https://ebermannstadt.
 feuerwehren.bayern/150-jahre/ (https://ebermannstadt.feuerwehren.bayern/150
 -jahre/)\n \n Dieser Event wurde importiert von: https://www.ffw-leutenbach
 .de/index.php/termine/termine-download/icalrepeat.detail/2026/05/03/521/-/f
 estbesuch-150-jahre-ffw-ebermannstadt?tmpl=component (https://www.ffw-leute
 nbach.de/index.php/termine/termine-download/icalrepeat.detail/2026/05/03/52
 1/-/festbesuch-150-jahre-ffw-ebermannstadt?tmpl=component)
X-ALT-DESC;FMTTYPE=text/html:<p>Am Sonntag den 3. Mai 2026 gehen wir mit beim Festzug der Feuerwehr Eber
 mannstadt.</p><p><br />11:30 Uhr Abfahrt an der Dorfmitte, Linde<br /> <br 
 /><br /></p><p> </p><p><br /> Das Programm für das ganze Wochenende findet 
 ihr unter:<br /> <br /> <a href="https://ebermannstadt.feuerwehren.bayern/1
 50-jahre/">https://ebermannstadt.feuerwehren.bayern/150-jahre/</a></p><p> <
 /p> <a href="https://www.ffw-leutenbach.de/index.php/termine/termine-downlo
 ad/icalrepeat.detail/2026/05/03/521/-/festbesuch-150-jahre-ffw-ebermannstad
 t?tmpl=component">Dieser Event wurde importiert von: https://www.ffw-leuten
 bach.de/index.php/termine/termine-download/icalrepeat.detail/2026/05/03/521
 /-/festbesuch-150-jahre-ffw-ebermannstadt?tmpl=component</a>DTSTAMP:20260426T033318
DTSTART;TZID=Europe/Berlin;VALUE=DATE:20260503
DTEND;TZID=Europe/Berlin;VALUE=DATE:20260504
SEQUENCE:0
TRANSP:OPAQUE
END:VEVENT
END:VCALENDAR